BEGIN:VCALENDAR
VERSION:2.0
PRODID:-//Licketyspit - ECPv6.15.20//NONSGML v1.0//EN
CALSCALE:GREGORIAN
METHOD:PUBLISH
X-WR-CALNAME:Licketyspit
X-ORIGINAL-URL:https://www.licketyspit.com
X-WR-CALDESC:Events for Licketyspit
REFRESH-INTERVAL;VALUE=DURATION:PT1H
X-Robots-Tag:noindex
X-PUBLISHED-TTL:PT1H
BEGIN:VTIMEZONE
TZID:UTC
BEGIN:STANDARD
TZOFFSETFROM:+0000
TZOFFSETTO:+0000
TZNAME:UTC
DTSTART:20210101T000000
END:STANDARD
END:VTIMEZONE
BEGIN:VEVENT
DTSTART;TZID=UTC:20220819T170000
DTEND;TZID=UTC:20230324T183000
DTSTAMP:20260425T184047
CREATED:20220818T081201Z
LAST-MODIFIED:20230307T172414Z
UID:13118-1660928400-1679682600@www.licketyspit.com
SUMMARY:Lickety Mums 2023
DESCRIPTION:Lickety Mums is back!\nFridays 5-6.30pm on Zoom\n20th January – 24th March\nSign up here and we’ll send you the zoom link for our Friday afternoon sessions. \nLickety Mums can also volunteer at our family sessions as Storyplay Champions! \nFind out more about the project here.
URL:https://www.licketyspit.com/happening-now/lickety-mums-2023/
CATEGORIES:Happening Now,mum
ATTACH;FMTTYPE=image/png:https://www.licketyspit.com/wp-content/uploads/2022/08/LicketyMums-2023-flyer.png
END:VEVENT
END:VCALENDAR